Workbook
Name Dividend_Rate: Estimates!#REF!
Name Earnings_Estimates: Estimates!#REF!
Name Earnings_Growth_Rates: Estimates!#REF!
Name Fund_FinHighlights2: Estimates!#REF!
Name omega: RIM15Yr!$B$23
Name Quote_Details: Estimates!#REF!
Name Reuters_EPS_Ests: Estimates!#REF!

Sheet RIM15Yr
A1: Residual Income Model Valuation | B1: CVS | C1: =VLOOKUP($B$1,'SP500'!$B$2:$J$133,2,FALSE) -> CVS Health Corporation (CVS) | J1: Historical ROE by Moat
A2: Treasury yield | B2: 0.0374 | D2: Valuation date: | E2: 45567 | I2: Moat | J2: 25th %ile | K2: Median | L2: 75th %ile | N2: Moat, Trend | O2: Persistence Factor
A3: Blume-adj. beta | B3: =VLOOKUP($B$1,'SP500'!$B$2:$J$133,4,FALSE) -> 0.68666667 | D3: Moat Rating: | E3: Wide | I3: None | J3: 0.0893 | K3: 0.1268 | L3: 0.1711 | N3: None, Negative | O3: 0.21 | R3: Key ratio source: | T3: Valuation Tab | Z3: Years should be in descinding order
A4: Equity risk premium | B4: 0.0251 | D4: Moat Trend: | E4: Negative | I4: Narrow | J4: 0.1094 | K4: 0.1533 | L4: 0.1985 | N4: None, Stable | O4: 0.44 | R4: 10 year treasury yield:
A5: CAPM required return | B5: =B2+(B3*B4) -> 0.054635333 | D5: Moat, Trend | E5: =CONCATENATE(E3,", ",E4) -> Wide, Negative | I5: Wide | J5: 0.1582 | K5: 0.2118 | L5: 0.2725 | N5: None, NA | O5: 0.44 | R5: https://overallmoney.com/us-treasuries-yield-curve/
A6: (Yr 15 ROE depends on Moat Rating, Moat Trend, and ROE History) | N6: None, Positive | O6: 0.53
C7: Median | D7: =KeyRatios!C4 -> 2014-12 | E7: =KeyRatios!D4 -> 2015-12 | F7: =KeyRatios!E4 -> 2016-12 | G7: =KeyRatios!F4 -> 2017-12 | H7: =KeyRatios!G4 -> 2018-12 | I7: =KeyRatios!H4 -> 2019-12 | J7: =KeyRatios!I4 -> 2020-12 | K7: =KeyRatios!J4 -> 2021-12 | L7: =KeyRatios!K4 -> 2022-12 | N7: Narrow, Negative | O7: 0.54 | R7: Equity Risk Premium:
A8: Year 15 ROE(beg of yr) | B8: =R32 -> 0.01 | C8: =MEDIAN(D8:L8) -> 0.11681122 | D8: =KeyRatios!C11/KeyRatios!D15 -> 0.11899945 | E8: =KeyRatios!D11/KeyRatios!E15 -> 0.057996798 | F8: =KeyRatios!E11/KeyRatios!F15 -> 0.114623 | G8: =KeyRatios!F11/KeyRatios!G15 -> 0.11353712 | H8: =KeyRatios!G11/KeyRatios!H15 -> 0.17963225 | I8: =KeyRatios!H11/KeyRatios!I15 -> -0.016579407 | J8: =KeyRatios!I11/KeyRatios!J15 -> 0.19008264 | K8: =KeyRatios!J11/KeyRatios!K15 -> 0.14514218 | N8: Narrow, Stable | O8: 0.59 | R8: http://www.market-risk-premia.com/us.html
A9: Year 5 ROE --> | B9: =H32 -> 0.10783908 | C9: =MEDIAN(I32:R32) -> 0.054027587 | D9: <-- Median ROE Yrs 6-15 | N9: Narrow, NA | O9: 0.59
A10: Year 5 payout ratio | B10: =H33 -> 0.19 | C10: =MEDIAN(D10:L10) -> 0.34693878 | D10: =KeyRatios!C12/KeyRatios!C11 -> 0.374034 | E10: =KeyRatios!D12/KeyRatios!D11 -> 0.67484663 | F10: =KeyRatios!E12/KeyRatios!E11 -> 0.33222591 | G10: =KeyRatios!F12/KeyRatios!F11 -> 0.36630037 | H10: =KeyRatios!G12/KeyRatios!G11 -> 0.39370079 | I10: =KeyRatios!H12/KeyRatios!H11 -> -3.5087719 | J10: =KeyRatios!I12/KeyRatios!I11 -> 0.31055901 | K10: =KeyRatios!J12/KeyRatios!J11 -> 0.34693878 | L10: =KeyRatios!K12/KeyRatios!K11 -> 0.30237581 | N10: Narrow, Positive | O10: 0.63
N11: Wide, Negative | O11: 0.64
A12: $ Dividend per share | D12: =KeyRatios!C12 -> 2.42 | E12: =KeyRatios!D12 -> 2.2 | F12: =KeyRatios!E12 -> 2 | G12: =KeyRatios!F12 -> 2 | H12: =KeyRatios!G12 -> 2 | I12: =KeyRatios!H12 -> 2 | J12: =KeyRatios!I12 -> 2 | K12: =KeyRatios!J12 -> 1.7 | L12: =KeyRatios!K12 -> 1.4 | N12: Wide, Stable | O12: 0.68
A13: Year-over-year growth in DivPS | D13: =D12/E12-1 -> 0.1 | E13: =E12/F12-1 -> 0.1 | F13: =F12/G12-1 -> 0 | G13: =G12/H12-1 -> 0 | H13: =H12/I12-1 -> 0 | I13: =I12/J12-1 -> 0 | J13: =J12/K12-1 -> 0.17647059 | K13: =K12/L12-1 -> 0.21428571 | N13: Wide, NA | O13: 0.68
A14: Earnings Estimates | B14: Mean | C14: High | D14: Low | N14: Wide, Positive | O14: 0.73
A15: =Estimates!D1 -> Current Year (2024) | B15: =Estimates!D3 -> 6.53 | C15: =Estimates!D5 -> 7 | D15: =Estimates!D4 -> 6.41
A16: =Estimates!E1 -> Next Year (2025) | B16: =Estimates!E3 -> 7.31 | C16: =Estimates!E5 -> 8.12 | D16: =Estimates!E4 -> 7.03
A17: LT Growth Rate (%) | B17: =KeyRatios!C16/100 -> 0.0563 | C17: =B17 -> 0.0563 | D17: =B17 -> 0.0563 | I17: FY2 EPS Ests
A19: Dividend rate (most recent yr) | B19: =D12 -> 2.42 | F19: Sensitivity Analysis: | H19: High Est | I19: Mean Est | J19: Low Est
A20: Assumed growth in Div next yr | B20: 0.05
A21: E(Div Curr FY) | B21: =B19*(1+B20) -> 2.541 | F21: Est 5Y g | G21: =C26 -> 75.324789 | H21: =C16 -> 8.12 | I21: =B16 -> 7.31 | J21: =D16 -> 7.03
F22: High | G22: =C17 -> 0.0563 | H22: 81.185793 | I22: 81.185793 | J22: 73.319819
A23: Persistence factor in RI | B23: =VLOOKUP(E5,N3:O14,2,FALSE) -> 0.64 | C23: (depends on moat and trend) | F23: Mean | G23: =B17 -> 0.0563 | H23: 81.185793 | I23: 81.185793 | J23: 73.319819
F24: Low | G24: =D17 -> 0.0563 | H24: 81.185793 | I24: 81.185793 | J24: 73.319819
B25: High Est. | C25: Mean Est. | D25: Low Est.
A26: Target Price | B26: =H22 -> 81.185793 | C26: =C46 -> 75.324789 | D26: =J24 -> 73.319819
A27: Current price | C27: 62.24
A28: Potential % gain / (loss) | B28: =B26/$C$27-1 -> 0.30439899 | C28: =C26/$C$27-1 -> 0.21023119 | D28: =D26/$C$27-1 -> 0.17801765
F29: Div step--> | G29: =(H33-C33)/5 -> -0.039825421 | Q29: ROE step--> | R29: =(R32-H32)/10 -> -0.0097839082
C30: =RIGHT(A15,6) -> (2024) | D30: =RIGHT(A16,6) -> (2025)
A31: Year: | B31: Last FY | C31: Curr FY | D31: 1 | E31: 2 | F31: 3 | G31: 4 | H31: 5 | I31: 6 | J31: 7 | K31: 8 | L31: 9 | M31: 10 | N31: 11 | O31: 12 | P31: 13 | Q31: 14 | R31: 15
A32: Expected ROE(on beg. Equity) | C32: =C34/B36 -> 0.11313236 | D32: =D34/C36 -> 0.11845922 | E32: =E34/D36 -> 0.11617367 | F32: =F34/E36 -> 0.11360109 | G32: =G34/F36 -> 0.11080362 | H32: =H34/G36 -> 0.10783908 | I32: =H32+$R$29 -> 0.098055173 | J32: =I32+$R$29 -> 0.088271265 | K32: =J32+$R$29 -> 0.078487357 | L32: =K32+$R$29 -> 0.068703449 | M32: =L32+$R$29 -> 0.058919541 | N32: =M32+$R$29 -> 0.049135633 | O32: =N32+$R$29 -> 0.039351724 | P32: =O32+$R$29 -> 0.029567816 | Q32: =P32+$R$29 -> 0.019783908 | R32: 0.01
A33: Expected dividend payout ratio | C33: =C35/C34 -> 0.38912711 | D33: =C33+$G$29 -> 0.34930168 | E33: =D33+$G$29 -> 0.30947626 | F33: =E33+$G$29 -> 0.26965084 | G33: =F33+$G$29 -> 0.22982542 | H33: 0.19 | I33: =H33 -> 0.19 | J33: =I33 -> 0.19 | K33: =J33 -> 0.19 | L33: =K33 -> 0.19 | M33: =L33 -> 0.19 | N33: =M33 -> 0.19 | O33: =N33 -> 0.19 | P33: =O33 -> 0.19 | ... R33: =Q33 -> 0.19
A34: Expected earnings | C34: =B15 -> 6.53 | D34: =B16 -> 7.31 | E34: =D34*(1+$B$17) -> 7.721553 | F34: =E34*(1+$B$17) -> 8.1562764 | G34: =F34*(1+$B$17) -> 8.6154748 | H34: =G34*(1+$B$17) -> 9.100526 | I34: =I32*H36 -> 8.9976698 | J34: =J32*I36 -> 8.7432166 | K34: =K32*J36 -> 8.3299742 | L34: =L32*K36 -> 7.7551555 | M34: =M32*L36 -> 7.0208742 | N34: =N32*M36 -> 6.1344499 | O34: =O32*N36 -> 5.1084906 | P34: =P32*O36 -> 3.960729 | ... R34: =R32*Q36 -> 1.3936027
A35: Expected dividends | C35: =B21 -> 2.541 | D35: =D34*D33 -> 2.5533953 | E35: =E34*E33 -> 2.3896374 | F35: =F34*F33 -> 2.1993468 | G35: =G34*G33 -> 1.9800551 | H35: =H34*H33 -> 1.7290999 | I35: =I34*I33 -> 1.7095573 | J35: =J34*J33 -> 1.6612112 | K35: =K34*K33 -> 1.5826951 | ... R35: =R34*R33 -> 0.26478451
A36: Expected book value per share | B36: =KeyRatios!C15 -> 57.72 | C36: =B36+C34-C35 -> 61.709 | D36: =C36+D34-D35 -> 66.465605 | E36: =D36+E34-E35 -> 71.79752 | F36: =E36+F34-F35 -> 77.75445 | G36: =F36+G34-G35 -> 84.38987 | H36: =G36+H34-H35 -> 91.761296 | I36: =H36+I34-I35 -> 99.049408 | J36: =I36+J34-J35 -> 106.13141 | ... R36: =Q36+R34-R35 -> 140.48909
A37: Required earnings | C37: =B36*$B$5 -> 3.1535514 | D37: =C36*$B$5 -> 3.3714918 | E37: =D36*$B$5 -> 3.6313705 | F37: =E36*$B$5 -> 3.9226815 | G37: =F36*$B$5 -> 4.2481403 | H37: =G36*$B$5 -> 4.6106687 | I37: =H36*$B$5 -> 5.013409 | J37: =I36*$B$5 -> 5.4115974 | ... R37: =Q36*$B$5 -> 7.6139948
A38: Residual income | C38: =C34-C37 -> 3.3764486 | D38: =D34-D37 -> 3.9385082 | E38: =E34-E37 -> 4.0901825 | F38: =F34-F37 -> 4.233595 | G38: =G34-G37 -> 4.3673345 | H38: =H34-H37 -> 4.4898574 | I38: =I34-I37 -> 3.9842608 | J38: =J34-J37 -> 3.3316191 | ... R38: =R34-R37 -> -6.2203921
A39: Terminal value | R39: =(omega*R38)/(1+B5-omega) -> -9.6013306
A40: PV factors | D40: =1/(1+$B$5)^D31 -> 0.94819505 | E40: =1/(1+$B$5)^E31 -> 0.89907385 | F40: =1/(1+$B$5)^F31 -> 0.85249737 | G40: =1/(1+$B$5)^G31 -> 0.80833378 | H40: =1/(1+$B$5)^H31 -> 0.76645809 | I40: =1/(1+$B$5)^I31 -> 0.72675177 | J40: =1/(1+$B$5)^J31 -> 0.68910243 | K40: =1/(1+$B$5)^K31 -> 0.65340351 | ... R40: =1/(1+$B$5)^R31 -> 0.45026194
A41: PV of residual income per year | D41: =D38*D40 -> 3.734474 | E41: =E38*E40 -> 3.6773761 | F41: =F38*F40 -> 3.6091286 | G41: =G38*G40 -> 3.530264 | H41: =H38*H40 -> 3.4412875 | I41: =I38*I40 -> 2.8955686 | J41: =J38*J40 -> 2.2958268 | K41: =K38*K40 -> 1.6540577 | ... R41: =R38*R40 -> -2.8008058
...

Sheet KeyRatios
A1: Growth and Financial Ratios
A2: Financials
P3: Morningstar
A4: Calendar Year | C4: 2014-12 | D4: 2015-12 | E4: 2016-12 | F4: 2017-12 | G4: 2018-12 | H4: 2019-12 | I4: 2020-12 | J4: 2021-12 | K4: 2022-12 | L4: 2023-12 | P4: Valuation=>Growth
A5: 10-Year Average Morningstar EPS growth | C5: 13.67 | D5: 12.31 | E5: 11.84 | F5: 12.86 | G5: — | H5: 7.14 | I5: 8.17 | J5: 8.76 | K5: 0.36 | L5: 5.63 | P5: Valuation=>Growth
A6: Morningstar Book Value/Share | C6: 33.42 | D6: 33.76 | E6: 33.88 | F6: 34.38 | G6: 28.28 | H6: 48.09 | I6: 52.52 | J6: 56.21 | K6: 54.37 | L6: 57.72 | P6: Valuation=>financial health
A7: Moringstar Dividend Per Share | C7: 1.1 | D7: 1.4 | E7: 1.7 | F7: 2 | G7: 2 | H7: 2 | I7: 2 | J7: 2 | K7: 2.2 | L7: 2.42 | P7: dividend
A8: Year over year EPS growth | C8: 5.88 | D8: 16.92 | E8: 5.83 | F8: 31.43 | G8: — | H8: — | I8: 7.48 | J8: 8.97 | K8: -47.23 | L8: 106.05 | P8: Valuation=>Growth
C10: =L4 -> 2023-12 | D10: =K4 -> 2022-12 | E10: =J4 -> 2021-12 | F10: =I4 -> 2020-12 | G10: =H4 -> 2019-12 | H10: =G4 -> 2018-12 | I10: =F4 -> 2017-12 | J10: =E4 -> 2016-12 | K10: =D4 -> 2015-12 | L10: =C4 -> 2014-12
A11: Earnings Per Share USD | C11: 6.47 | D11: 3.26 | E11: 6.02 | F11: 5.46 | G11: 5.08 | H11: -0.57 | I11: 6.44 | J11: 4.9 | K11: 4.63 | L11: 3.96 | P11: financials=>income statement | S11: (rest from: https://www.macrotrends.net/stocks/charts/CVS/cvs-health/eps-earnings-per-share-diluted)
A12: Dividends USD | C12: =L7 -> 2.42 | D12: =K7 -> 2.2 | E12: =J7 -> 2 | F12: =I7 -> 2 | G12: =H7 -> 2 | H12: =G7 -> 2 | I12: =F7 -> 2 | J12: =E7 -> 1.7 | K12: =D7 -> 1.4 | L12: =C7 -> 1.1
A15: Book Value Per Share * USD | C15: =L6 -> 57.72 | D15: =K6 -> 54.37 | E15: =J6 -> 56.21 | F15: =I6 -> 52.52 | G15: =H6 -> 48.09 | H15: =G6 -> 28.28 | I15: =F6 -> 34.38 | J15: =E6 -> 33.88 | K15: =D6 -> 33.76 | L15: =C6 -> 33.42
A16: 10-Year Average | C16: =L5 -> 5.63 | D16: =K5 -> 0.36 | E16: =J5 -> 8.76 | F16: =I5 -> 8.17 | G16: =H5 -> 7.14 | H16: =G5 -> — | I16: =F5 -> 12.86 | J16: =E5 -> 11.84 | K16: =D5 -> 12.31 | L16: =C5 -> 13.67

Sheet Estimates
A1: Earnings Estimate | B1: Current Qtr. (Sep 2024) | C1: Next Qtr. (Dec 2024) | D1: Current Year (2024) | E1: Next Year (2025)
A2: No. of Analysts | B2: 22 | C2: 22 | D2: 27 | E2: 26
A3: Avg. Estimate | B3: 1.72 | C3: 1.7 | D3: 6.53 | E3: 7.31
A4: Low Estimate | B4: 1.51 | C4: 1.48 | D4: 6.41 | E4: 7.03
A5: High Estimate | B5: 1.99 | C5: 1.98 | D5: 7 | E5: 8.12
A6: Year Ago EPS | B6: 2.21 | C6: 2.12 | D6: 8.74 | E6: 6.53
A7: Revenue Estimate | B7: Current Qtr. (Sep 2024) | C7: Next Qtr. (Dec 2024) | D7: Current Year (2024) | E7: Next Year (2025)
A8: No. of Analysts | B8: 17 | C8: 17 | D8: 23 | E8: 23
A9: Avg. Estimate | B9: 92.6B | C9: 96.71B | D9: 369.36B | E9: 386.37B
A10: Low Estimate | B10: 90.25B | C10: 93.04B | D10: 364.68B | E10: 376.8B
A11: High Estimate | B11: 93.87B | C11: 98.22B | D11: 371.16B | E11: 395.84B
A12: Year Ago Sales | B12: N/A | C12: 93.81B | D12: 357.78B | E12: 369.36B
A13: Sales Growth (year/est) | B13: N/A | C13: 0.031 | D13: 0.032 | E13: 0.046

Sheet SP500
A1: SL | B1: Ticker | C1: Company Name | D1: Beta | E1: Adj Beta
B2: CVS | C2: CVS Health Corporation (CVS) | D2: 0.53 | E2: =(1/3)+(2/3)*D2 -> 0.68666667
E3: =(1/3)+(2/3)*D3 -> 0.33333333
E4: =(1/3)+(2/3)*D4 -> 0.33333333
E5: =(1/3)+(2/3)*D5 -> 0.33333333
E6: =(1/3)+(2/3)*D6 -> 0.33333333
E7: =(1/3)+(2/3)*D7 -> 0.33333333
E8: =(1/3)+(2/3)*D8 -> 0.33333333
E9: =(1/3)+(2/3)*D9 -> 0.33333333
E10: =(1/3)+(2/3)*D10 -> 0.33333333
E11: =(1/3)+(2/3)*D11 -> 0.33333333
E12: =(1/3)+(2/3)*D12 -> 0.33333333
E13: =(1/3)+(2/3)*D13 -> 0.33333333
E14: =(1/3)+(2/3)*D14 -> 0.33333333
... E133: =(1/3)+(2/3)*D133 -> 0.33333333
